BEGIN:VCALENDAR
VERSION:2.0
CALSCALE:GREGORIAN
PRODID:adamgibbons/ics
METHOD:PUBLISH
X-PUBLISHED-TTL:PT1H
BEGIN:VEVENT
UID:1152@mkeshows.com
SUMMARY:Happy Accccdent • Pareidolia • Shoobie • Heavy Bend
DTSTAMP:20260421T133319Z
DTSTART:20260501T003000Z
URL:https://mkeshows.com/event/happy-accccdent-pareidolia-shoobie-heavy-ben
	d
GEO:42.99903035;-87.8902020402719
LOCATION:Cactus Club - 2496 S Wentworth Ave\, Milwaukee\, WI 53207
STATUS:CONFIRMED
CATEGORIES:All Ages,Garage Rock,Indie,Noise Rock,Psych,Punk
END:VEVENT
BEGIN:VEVENT
UID:1249@mkeshows.com
SUMMARY:Spinner / Braince / Forest Animal / Night Again
DTSTAMP:20260421T133319Z
DTSTART:20260525T000000Z
URL:https://mkeshows.com/event/spinner-braince-forest-animal-night-again
GEO:42.9529484;-87.8597089931877
LOCATION:X-Ray Arcade - 5036 S Packard Ave\, Cudahy\, WI 53110
STATUS:CONFIRMED
CATEGORIES:All Ages,Noise Rock,Post Hardcore,Punk Rock
END:VEVENT
BEGIN:VEVENT
UID:1212@mkeshows.com
SUMMARY:Season To Risk / Faketwin / Thyone
DTSTAMP:20260421T133319Z
DTSTART:20260611T003000Z
URL:https://mkeshows.com/event/season-to-risk-faketwin-thyone
GEO:42.9529484;-87.8597089931877
LOCATION:X-Ray Arcade - 5036 S Packard Ave\, Cudahy\, WI 53110
STATUS:CONFIRMED
CATEGORIES:All Ages,Math Rock,Noise Rock,Post Hardcore
END:VEVENT
BEGIN:VEVENT
UID:1203@mkeshows.com
SUMMARY:Neptune\, IfIHadAHiFi\, Key of Evil\, Karl Paloucek
DTSTAMP:20260421T133319Z
DTSTART:20260627T003000Z
URL:https://mkeshows.com/event/neptune-ifihadahifi-key-of-evil-karl-palouce
	k
GEO:43.0121122;-87.9319284
LOCATION:MKE Ultra - 1535 W. Mitchell Street
STATUS:CONFIRMED
CATEGORIES:All Ages,Experimental,Noise Rock
END:VEVENT
BEGIN:VEVENT
UID:1189@mkeshows.com
SUMMARY:Unsane
DTSTAMP:20260421T133319Z
DTSTART:20260927T003000Z
URL:https://mkeshows.com/event/unsane
GEO:42.9529484;-87.8597089931877
LOCATION:X-Ray Arcade - 5036 S Packard Ave\, Cudahy\, WI 53110
STATUS:CONFIRMED
CATEGORIES:All Ages,Noise Rock
END:VEVENT
END:VCALENDAR
